BEGIN:VCALENDAR
VERSION:2.0
PRODID:-//hacksw/handcal//NONSGML v1.0//EN
CALSCALE:GREGORIAN
BEGIN:VEVENT
ORGANIZER;CN=Westlake Corporation:MAILTO:no-reply@gcs-web.com
DTEND:
UID:583c7d60-4bfa-47e7-9804-27302589cd19
DTSTAMP:1776954322
LOCATION:https://edge.media-server.com/mmc/p/p33g6sjv
DESCRIPTION:Event Details https://investors.westlake.com/events/event-details/q1-2026-westlake-corporation-earnings-conference-call\n\nWebcast: https://edge.media-server.com/mmc/p/p33g6sjv
URL;VALUE=URI:https://edge.media-server.com/mmc/p/p33g6sjv
SUMMARY:Westlake Corporation - Q1 2026 Westlake Corporation Earnings Conference Call
DTSTART:20260505T150000Z
END:VEVENT
END:VCALENDAR